BEGIN:VCALENDAR
PRODID:-//Det Danske Spejderkorps//NONSGML Gruppeweb//EN
VERSION:2.0
CALSCALE:GREGORIAN
X-PUBLISHED-TTL:PT1H
X-WR-CALNAME:Klan i Høruphavspejderne
METHOD:PUBLISH
BEGIN:VEVENT
UID:gruppeweb.dk:5206:event:842
DTSTAMP:20260422T083128Z
LAST-MODIFIED:20260214T002202Z
SUMMARY:Sct. Georgsdag
DESCRIPTION:Vi holder et fællesmøde for alle spejdere i gruppen. \n\nSct
 . georgsdag\, er en vigtig og højtidelig dag for spejdere idet vi alle  \
 naflægger spejderløftet. \n\n
URL:https://www.horuphavspejderne.dk/begivenhed/sct-georgsdag-0
DTSTART:20250423T143000Z
DTEND:20250423T160000Z
LOCATION:Høruphavspejderne\, Lambjergsned 7 C\, Høruphav\, 6470 Sydals
END:VEVENT
BEGIN:VEVENT
UID:gruppeweb.dk:5206:event:852
DTSTAMP:20260422T083128Z
LAST-MODIFIED:20250519T185431Z
SUMMARY:Hytte udlånt: Louise Dau
DESCRIPTION:Ulkebøl Skole\n\nTlf.: 21732981\n\n
URL:https://www.horuphavspejderne.dk/begivenhed/hytte-udlaant-louise-dau
DTSTART;VALUE=DATE:20250620
DTEND;VALUE=DATE:20250622
LOCATION:Høruphavspejderne\, Lambjergsned 7 C\, Høruphav\, 6470 Sydals
END:VEVENT
BEGIN:VEVENT
UID:gruppeweb.dk:5206:event:822
DTSTAMP:20260422T083128Z
LAST-MODIFIED:20250508T172554Z
SUMMARY:Skt Hans for børn
DESCRIPTION:Spisning af medbragt mad.\n\nDer vil også være snobrød\, saf
 tevand og the/kaffe\n\nkl 17:30 tændes bålet\n\n
URL:https://www.horuphavspejderne.dk/begivenhed/skt-hans-boern
DTSTART:20250623T150000Z
DTEND:20250623T170000Z
LOCATION:
END:VEVENT
BEGIN:VEVENT
UID:gruppeweb.dk:5206:event:819
DTSTAMP:20260422T083128Z
LAST-MODIFIED:20260214T002249Z
SUMMARY:Oprykning 2025
DESCRIPTION:======== *Invitation til opstarts arrangement\n         \n     
     * ===================================================================\
 n\nVi starter efter sommerferien med et fælles møde\, hvor både\nspejde
 re og deres familie er inviteret. Hvis i kender nogen der kunne være\nint
 eresseret at start hos os er de naturligvis også velkomne. Det er også  
 \nher\nhvor spejdere rykker op til den næste gren\, hvis tiden er inde.\n
 \n\n\nEfter oprykning serverer vi mad får en beskeden pris\, som\nkan bet
 ales via MobilePay eller kontant på dagen. Samtidig er der mulighed  \nfo
 r\nat tale med ledere\, bestyrelsen og andre forældre.\n\n\n\n*/Så tag f
 orældre\nog søskende med og lad os starte den næste spejder sæson op./
 *\n\n\n\n\n \n\n\n-------- *Program\n         \n         * --------------
 -----------------------------------------------------\n\nVi mødes ved she
 lterpladsen Vælddam (de 2 sheltere der\nligger i skoven ved Trillen) og e
 fter velkomst deler vi os i grene. Herefter\nvil hver gren forlade pladsen
  for at gennemføre oprykning og udlevere\nårsstjerner.\n\n\n\nHerefter e
 r der fælles spisning hvorefter vi hjælpes ad med\nat pakke sammen og af
 slutter.\n\n\n\n\nMaden vil være ringriderpølser\, brød\, dyppelse\,\nk
 artoffelsalat og saftevand der sælges til 25 kr pr. kuvert.\n\n\n\n
URL:https://www.horuphavspejderne.dk/begivenhed/oprykning-2025
DTSTART:20250820T150000Z
DTEND:20250820T170000Z
LOCATION:Shelter\, Sønderlandevej 205\, Spejderpladsen Vælddam\, 6470 Syd
 als
END:VEVENT
BEGIN:VEVENT
UID:gruppeweb.dk:5206:event:858
DTSTAMP:20260422T083128Z
LAST-MODIFIED:20260214T002128Z
SUMMARY:Mikro/Mini
DESCRIPTION: \n\n
URL:https://www.horuphavspejderne.dk/begivenhed/mikromini-5
DTSTART:20250910T143000Z
DTEND:20250910T160000Z
LOCATION:Høruphavspejderne\, Lambjergsned 7 C\, Høruphav\, 6470 Sydals
END:VEVENT
BEGIN:VEVENT
UID:gruppeweb.dk:5206:event:829
DTSTAMP:20260422T083128Z
LAST-MODIFIED:20250118T123655Z
SUMMARY:Fællestræf
DESCRIPTION:\n
URL:https://www.horuphavspejderne.dk/begivenhed/faellestraef
DTSTART;VALUE=DATE:20250912
DTEND;VALUE=DATE:20250915
LOCATION:Troldhøj\, Troldhøjvej 1\, 6430 Nordborg
END:VEVENT
BEGIN:VEVENT
UID:gruppeweb.dk:5206:event:861
DTSTAMP:20260422T083128Z
LAST-MODIFIED:20260214T002120Z
SUMMARY:Fællestræf
DESCRIPTION:Se de uddelte invitationer. \n\nTilmelding skal ske til direkt
 e til leder. \n\n
URL:https://www.horuphavspejderne.dk/begivenhed/faellestraef-0
DTSTART:20250913T070000Z
DTEND:20250914T100000Z
LOCATION:Høruphavspejderne\, Lambjergsned 7 C\, Høruphav\, 6470 Sydals
END:VEVENT
BEGIN:VEVENT
UID:gruppeweb.dk:5206:event:862
DTSTAMP:20260422T083128Z
LAST-MODIFIED:20260214T002131Z
SUMMARY:Familiespejder
DESCRIPTION:\n
URL:https://www.horuphavspejderne.dk/begivenhed/familiespejder-22
DTSTART:20250928T080000Z
DTEND:20250928T100000Z
LOCATION:Høruphavspejderne\, Lambjergsned 7 C\, Høruphav\, 6470 Sydals
END:VEVENT
BEGIN:VEVENT
UID:gruppeweb.dk:5206:event:856
DTSTAMP:20260422T083128Z
LAST-MODIFIED:20260214T002127Z
SUMMARY:Arbejdsdag
DESCRIPTION:Invitation sendes ud\, når vi nærmer os. \n\n
URL:https://www.horuphavspejderne.dk/begivenhed/arbejdsdag-1
DTSTART:20251026T090000Z
DTEND:20251026T140000Z
LOCATION:Høruphavspejderne\, Lambjergsned 7 C\, Høruphav\, 6470 Sydals
END:VEVENT
BEGIN:VEVENT
UID:gruppeweb.dk:5206:event:831
DTSTAMP:20260422T083128Z
LAST-MODIFIED:20250118T123657Z
SUMMARY:Helloween
DESCRIPTION:Helloween løb for spejder\, familie og gæster\n\n
URL:https://www.horuphavspejderne.dk/begivenhed/helloween
DTSTART:20251029T160000Z
DTEND:20251029T180000Z
LOCATION:Høruphavspejderne\, Lambjergsned 7 C\, Høruphav\, 6470 Sydals
END:VEVENT
BEGIN:VEVENT
UID:gruppeweb.dk:5206:event:820
DTSTAMP:20260422T083128Z
LAST-MODIFIED:20250118T122146Z
SUMMARY:Juleafslutning
DESCRIPTION:Fælles afslutning før jul med risengrød spisning\n\n
URL:https://www.horuphavspejderne.dk/begivenhed/juleafslutning-3
DTSTART:20251210T153000Z
DTEND:20251210T170000Z
LOCATION:Høruphavspejderne\, Lambjergsned 7 C\, Høruphav\, 6470 Sydals
END:VEVENT
BEGIN:VEVENT
UID:gruppeweb.dk:5206:event:872
DTSTAMP:20260422T083128Z
LAST-MODIFIED:20260214T002100Z
SUMMARY:Infomøde - Spejdernes lejr
DESCRIPTION:Kom og hør mere om spejdernes lejr. \n\n
URL:https://www.horuphavspejderne.dk/begivenhed/infomoede-spejdernes-lejr
DTSTART:20260114T153000Z
DTEND:20260114T170000Z
LOCATION:Høruphavspejderne\, Lambjergsned 7 C\, Høruphav\, 6470 Sydals
END:VEVENT
BEGIN:VEVENT
UID:gruppeweb.dk:5206:event:871
DTSTAMP:20260422T083128Z
LAST-MODIFIED:20260214T002056Z
SUMMARY:Nytårskur for ledere og bestyrelse
DESCRIPTION:\n
URL:https://www.horuphavspejderne.dk/begivenhed/nytaarskur-ledere-og-bestyr
 else
DTSTART:20260117T080000Z
DTEND:20260117T220000Z
LOCATION:Høruphavspejderne\, Lambjergsned 7 C\, Høruphav\, 6470 Sydals
END:VEVENT
BEGIN:VEVENT
UID:gruppeweb.dk:5206:event:828
DTSTAMP:20260422T083128Z
LAST-MODIFIED:20250118T123654Z
SUMMARY:Gruppetur
DESCRIPTION:\n
URL:https://www.horuphavspejderne.dk/begivenhed/gruppetur-6
DTSTART;VALUE=DATE:20260220
DTEND;VALUE=DATE:20260223
LOCATION:Høruphavspejderne\, Lambjergsned 7 C\, Høruphav\, 6470 Sydals
END:VEVENT
BEGIN:VEVENT
UID:gruppeweb.dk:5206:event:869
DTSTAMP:20260422T083128Z
LAST-MODIFIED:20260214T002053Z
SUMMARY:Gruppetur 2026
DESCRIPTION:Invitation kommer. \n\nTag med på gruppetur på Troldhøj\n\n
URL:https://www.horuphavspejderne.dk/begivenhed/gruppetur-2026
DTSTART:20260221T120000Z
DTEND:20260222T110000Z
LOCATION:Høruphavspejderne\, Lambjergsned 7 C\, Høruphav\, 6470 Sydals
END:VEVENT
BEGIN:VEVENT
UID:gruppeweb.dk:5206:event:918
DTSTAMP:20260422T083128Z
LAST-MODIFIED:20260214T001948Z
SUMMARY:Grupperådsmøde
DESCRIPTION:Kære ${object.firstname} og pårørende\,\n\nhvert år afholde
 r vi et grupperådsmøde (bestyrelsesmøde) i vores  \nspejdergruppe\, der
  afholdes \n\n\n22. feb 2026 10:00 - 11:45 i Troldhøj hytten\n\nHer får
  i indsigt i gruppens økonomi og aktiviteter\, men ud over dette så  \ns
 ammensættes bestyrelsen ved dette møde. Så vær med til at udtrykke din
   \nmening og sætte retning for gruppens udvikling. Vil du være med til 
 at  \nbestemme kontingentsatsen? Præge udviklingsplanen for gruppen? Så 
 kom med  \nog tilmeld dig her.\n\nI kan finde materialet til mødet på Go
 ogle Drev:\n\n\n\n\nhttps://drive.google.com/drive/folders/1jz-0_2km93Qabv
 sKES-tT-NBDeH3kbus?usp=sharing  \n[1]\n\n\n[1] https://drive.google.com/dr
 ive/folders/1jz-0_2km93QabvsKES-tT-NBDeH3kbus?usp=sharing\n
URL:https://www.horuphavspejderne.dk/begivenhed/grupperaadsmoede-7
DTSTART:20260222T090000Z
DTEND:20260222T104500Z
LOCATION:Høruphavspejderne\, Lambjergsned 7 C\, Høruphav\, 6470 Sydals
END:VEVENT
BEGIN:VEVENT
UID:gruppeweb.dk:5206:event:925
DTSTAMP:20260422T083128Z
LAST-MODIFIED:20260311T074447Z
SUMMARY:Påskeægsjagt
DESCRIPTION:Høruphavspejderne inviterer alle børn og deres familier til p
 åskeægsjagt  \nsøndag 29. marts kl. 14.\nVi har gemt 500 påskeæg i sk
 oven. \n\n\nVi har også tændt op i bålet så du også kan bage et snob
 rød.\nDet er gratis at deltage.\n\n
URL:https://www.horuphavspejderne.dk/begivenhed/paaskeaegsjagt-3
DTSTART:20260329T120000Z
DTEND:20260329T133000Z
LOCATION:Høruphavspejderne\, Lambjergsned 7 C\, Høruphav\, 6470 Sydals
END:VEVENT
BEGIN:VEVENT
UID:gruppeweb.dk:5206:event:876
DTSTAMP:20260422T083128Z
LAST-MODIFIED:20260214T002046Z
SUMMARY:Hytte udlånt
DESCRIPTION:\n
URL:https://www.horuphavspejderne.dk/begivenhed/hytte-udlaant-21
DTSTART:20260417T130000Z
DTEND:20260419T190000Z
LOCATION:Høruphavspejderne\, Lambjergsned 7 C\, Høruphav\, 6470 Sydals
END:VEVENT
BEGIN:VEVENT
UID:gruppeweb.dk:5206:event:930
DTSTAMP:20260422T083128Z
LAST-MODIFIED:20260412T172006Z
SUMMARY:Sct. Georgsdag
DESCRIPTION:Fællesmøde for alle\, hvor vi afgiver spejderløftet \n\n
URL:https://www.horuphavspejderne.dk/begivenhed/sct-georgsdag-2
DTSTART:20260422T143000Z
DTEND:20260422T160000Z
LOCATION:Høruphavspejderne\, Lambjergsned 7 C\, Høruphav\, 6470 Sydals
END:VEVENT
BEGIN:VEVENT
UID:gruppeweb.dk:5206:event:877
DTSTAMP:20260422T083128Z
LAST-MODIFIED:20260225T193027Z
SUMMARY:SL2026 - kort lejr
DESCRIPTION:Tilmelding for familiespejdere\, mikro og mini\n\n
URL:https://www.horuphavspejderne.dk/begivenhed/sl2026-kort-lejr
DTSTART:20260718T070000Z
DTEND:20260722T180000Z
LOCATION:Hedeland
END:VEVENT
BEGIN:VEVENT
UID:gruppeweb.dk:5206:event:892
DTSTAMP:20260422T083128Z
LAST-MODIFIED:20260117T115951Z
SUMMARY:Fællestræf
DESCRIPTION:\n
URL:https://www.horuphavspejderne.dk/begivenhed/faellestraef-1
DTSTART:20260911T150000Z
DTEND:20260914T100000Z
LOCATION:Troldhøj\, Troldhøjvej 1\, 6430 Nordborg
END:VEVENT
END:VCALENDAR
